Package: DNABarcodeCompatibility Version: 1.25.0 Command: /Library/Frameworks/R.framework/Resources/bin/R CMD check --install=check:DNABarcodeCompatibility.install-out.txt --library=/Library/Frameworks/R.framework/Resources/library --no-vignettes --timings DNABarcodeCompatibility_1.25.0.tar.gz StartedAt: 2025-10-19 19:26:43 -0400 (Sun, 19 Oct 2025) EndedAt: 2025-10-19 19:27:01 -0400 (Sun, 19 Oct 2025) EllapsedTime: 18.2 seconds RetCode: 0 Status: OK CheckDir: DNABarcodeCompatibility.Rcheck Warnings: 0