Package: DMRcate Version: 3.5.2 Command: /home/biocbuild/R/R/bin/R CMD check --install=check:DMRcate.install-out.txt --library=/home/biocbuild/R/R/site-library --no-vignettes --timings DMRcate_3.5.2.tar.gz StartedAt: 2025-10-21 07:36:06 -0000 (Tue, 21 Oct 2025) EndedAt: 2025-10-21 07:40:25 -0000 (Tue, 21 Oct 2025) EllapsedTime: 259.3 seconds RetCode: 1 Status: ERROR CheckDir: DMRcate.Rcheck Warnings: NA