Package: DMRcate Version: 3.5.2 Command: /home/biocbuild/R/R/bin/R CMD build --keep-empty-dirs --no-resave-data DMRcate StartedAt: 2025-10-20 23:25:45 -0000 (Mon, 20 Oct 2025) EndedAt: 2025-10-20 23:44:44 -0000 (Mon, 20 Oct 2025) EllapsedTime: 1139.4 seconds RetCode: 0 Status: OK PackageFile: DMRcate_3.5.2.tar.gz PackageFileSize: 799 KiB