Package: DMRcate Version: 3.5.1 Command: chmod a+r DMRcate -R && F:\biocbuild\bbs-3.22-bioc\R\bin\R.exe CMD build --keep-empty-dirs --no-resave-data DMRcate StartedAt: 2025-08-14 19:46:28 -0400 (Thu, 14 Aug 2025) EndedAt: 2025-08-14 20:09:08 -0400 (Thu, 14 Aug 2025) EllapsedTime: 1359.9 seconds RetCode: 0 Status: OK PackageFile: DMRcate_3.5.1.tar.gz PackageFileSize: 810.1 KiB