Package: DMRcate Version: 3.5.1 Command: rm -rf DMRcate.buildbin-libdir && mkdir DMRcate.buildbin-libdir && F:\biocbuild\bbs-3.22-bioc\R\bin\R.exe CMD INSTALL --build --library=DMRcate.buildbin-libdir DMRcate_3.5.1.tar.gz StartedAt: 2025-08-15 10:10:22 -0400 (Fri, 15 Aug 2025) EndedAt: 2025-08-15 10:11:49 -0400 (Fri, 15 Aug 2025) EllapsedTime: 86.9 seconds RetCode: 0 Status: OK PackageFile: DMRcate_3.5.1.zip PackageFileSize: 1.153 MiB