Package: DMRcaller Version: 1.41.2 Command: /Library/Frameworks/R.framework/Resources/bin/R CMD INSTALL DMRcaller StartedAt: 2025-10-16 15:57:27 -0400 (Thu, 16 Oct 2025) EndedAt: 2025-10-16 15:58:12 -0400 (Thu, 16 Oct 2025) EllapsedTime: 45.4 seconds RetCode: 0 Status: OK