Package: DMRcaller Version: 1.41.2 Command: rm -rf DMRcaller.buildbin-libdir && mkdir DMRcaller.buildbin-libdir && /Users/biocbuild/BBS/utils/build-universal.sh DMRcaller_1.41.2.tar.gz /Library/Frameworks/R.framework/Resources/bin/R DMRcaller.buildbin-libdir StartedAt: 2025-10-17 03:47:51 -0400 (Fri, 17 Oct 2025) EndedAt: 2025-10-17 03:48:40 -0400 (Fri, 17 Oct 2025) EllapsedTime: 49.6 seconds RetCode: 0 Status: OK PackageFile: DMRcaller_1.41.2.tgz PackageFileSize: 4.13 MiB