Package: DMCFB Version: 1.24.0 Maintainer: Farhad Shokoohi MaintainerEmail: shokoohi at icloud.com git_url: https://git.bioconductor.org/packages/DMCFB git_branch: RELEASE_3_22 git_last_commit: 0f829bf git_last_commit_date: 2025-10-29 10:54:42 -0500 (Wed, 29 Oct 2025)