Package: DEqMS Version: 1.28.0 Command: /home/biocbuild/R/R/bin/R CMD INSTALL DEqMS StartedAt: 2025-11-13 21:12:43 -0000 (Thu, 13 Nov 2025) EndedAt: 2025-11-13 21:13:08 -0000 (Thu, 13 Nov 2025) EllapsedTime: 24.5 seconds RetCode: 0 Status: OK