Package: DEqMS Version: 1.28.0 Command: /home/biocbuild/R/R/bin/R CMD build --keep-empty-dirs --no-resave-data DEqMS StartedAt: 2025-11-14 01:13:35 -0000 (Fri, 14 Nov 2025) EndedAt: 2025-11-14 01:15:15 -0000 (Fri, 14 Nov 2025) EllapsedTime: 100.0 seconds RetCode: 0 Status: OK PackageFile: DEqMS_1.28.0.tar.gz PackageFileSize: 1.195 MiB