Package: DEqMS Version: 1.28.0 Command: /home/biocbuild/bbs-3.22-bioc/R/bin/R CMD check --install=check:DEqMS.install-out.txt --library=/home/biocbuild/bbs-3.22-bioc/R/site-library --timings DEqMS_1.28.0.tar.gz StartedAt: 2025-11-18 03:00:25 -0500 (Tue, 18 Nov 2025) EndedAt: 2025-11-18 03:25:34 -0500 (Tue, 18 Nov 2025) EllapsedTime: 1509.1 seconds RetCode: 1 Status: ERROR CheckDir: DEqMS.Rcheck Warnings: NA