Package: DEqMS Version: 1.28.0 Command: /Library/Frameworks/R.framework/Resources/bin/R CMD INSTALL DEqMS StartedAt: 2025-11-10 15:04:59 -0500 (Mon, 10 Nov 2025) EndedAt: 2025-11-10 15:05:02 -0500 (Mon, 10 Nov 2025) EllapsedTime: 3.7 seconds RetCode: 0 Status: OK