Package: DEqMS Version: 1.28.0 Command: rm -rf DEqMS.buildbin-libdir && mkdir DEqMS.buildbin-libdir && /Users/biocbuild/BBS/utils/build-universal.sh DEqMS_1.28.0.tar.gz /Library/Frameworks/R.framework/Resources/bin/R DEqMS.buildbin-libdir StartedAt: 2025-11-10 23:17:44 -0500 (Mon, 10 Nov 2025) EndedAt: 2025-11-10 23:17:47 -0500 (Mon, 10 Nov 2025) EllapsedTime: 3.1 seconds RetCode: 0 Status: OK PackageFile: DEqMS_1.28.0.tgz PackageFileSize: 2.246 MiB