Package: DEXSeq Version: 1.55.1 Command: F:\biocbuild\bbs-3.22-bioc\R\bin\R.exe CMD check --no-multiarch --install=check:DEXSeq.install-out.txt --library=F:\biocbuild\bbs-3.22-bioc\R\library --no-vignettes --timings DEXSeq_1.55.1.tar.gz StartedAt: 2025-08-15 02:33:43 -0400 (Fri, 15 Aug 2025) EndedAt: 2025-08-15 02:41:11 -0400 (Fri, 15 Aug 2025) EllapsedTime: 447.6 seconds RetCode: 0 Status: OK CheckDir: DEXSeq.Rcheck Warnings: 0