Package: DEWSeq Version: 1.23.1 Command: /home/biocbuild/R/R/bin/R CMD INSTALL DEWSeq StartedAt: 2025-10-23 20:39:46 -0000 (Thu, 23 Oct 2025) EndedAt: 2025-10-23 20:40:20 -0000 (Thu, 23 Oct 2025) EllapsedTime: 33.7 seconds RetCode: 0 Status: OK