Package: DEWSeq Version: 1.23.1 Command: /home/biocbuild/R/R/bin/R CMD build --keep-empty-dirs --no-resave-data DEWSeq StartedAt: 2025-10-20 23:20:34 -0000 (Mon, 20 Oct 2025) EndedAt: 2025-10-20 23:23:23 -0000 (Mon, 20 Oct 2025) EllapsedTime: 169.1 seconds RetCode: 0 Status: OK PackageFile: DEWSeq_1.23.1.tar.gz PackageFileSize: 3.157 MiB