Package: DEWSeq Version: 1.23.1 Command: /Library/Frameworks/R.framework/Resources/bin/R CMD build --keep-empty-dirs --no-resave-data DEWSeq StartedAt: 2025-10-24 16:51:31 -0400 (Fri, 24 Oct 2025) EndedAt: 2025-10-24 16:53:50 -0400 (Fri, 24 Oct 2025) EllapsedTime: 139.5 seconds RetCode: 0 Status: OK PackageFile: DEWSeq_1.23.1.tar.gz PackageFileSize: 3.422 MiB