Package: DEWSeq Version: 1.23.1 Command: /Library/Frameworks/R.framework/Resources/bin/R CMD check --install=check:DEWSeq.install-out.txt --library=/Library/Frameworks/R.framework/Resources/library --no-vignettes --timings DEWSeq_1.23.1.tar.gz StartedAt: 2025-10-23 19:32:18 -0400 (Thu, 23 Oct 2025) EndedAt: 2025-10-23 19:33:54 -0400 (Thu, 23 Oct 2025) EllapsedTime: 96.2 seconds RetCode: 0 Status: OK CheckDir: DEWSeq.Rcheck Warnings: 0