Package: DESpace Version: 2.2.1 Command: /Library/Frameworks/R.framework/Resources/bin/R CMD INSTALL DESpace StartedAt: 2025-11-03 15:27:46 -0500 (Mon, 03 Nov 2025) EndedAt: 2025-11-03 15:28:43 -0500 (Mon, 03 Nov 2025) EllapsedTime: 56.6 seconds RetCode: 0 Status: OK