Package: DESpace Version: 2.2.1 Command: rm -rf DESpace.buildbin-libdir && mkdir DESpace.buildbin-libdir && /Users/biocbuild/BBS/utils/build-universal.sh DESpace_2.2.1.tar.gz /Library/Frameworks/R.framework/Resources/bin/R DESpace.buildbin-libdir StartedAt: 2025-11-04 01:36:59 -0500 (Tue, 04 Nov 2025) EndedAt: 2025-11-04 01:38:04 -0500 (Tue, 04 Nov 2025) EllapsedTime: 64.7 seconds RetCode: 0 Status: OK PackageFile: DESpace_2.2.1.tgz PackageFileSize: 9.662 MiB