Package: DEP Version: 1.31.2 Command: /Library/Frameworks/R.framework/Resources/bin/R CMD INSTALL DEP StartedAt: 2025-10-15 15:21:05 -0400 (Wed, 15 Oct 2025) EndedAt: 2025-10-15 15:21:23 -0400 (Wed, 15 Oct 2025) EllapsedTime: 17.6 seconds RetCode: 0 Status: OK