Package: DEP Version: 1.31.2 Command: /Library/Frameworks/R.framework/Resources/bin/R CMD build --keep-empty-dirs --no-resave-data DEP StartedAt: 2025-10-15 16:11:01 -0400 (Wed, 15 Oct 2025) EndedAt: 2025-10-15 16:11:41 -0400 (Wed, 15 Oct 2025) EllapsedTime: 39.4 seconds RetCode: 0 Status: OK PackageFile: DEP_1.31.2.tar.gz PackageFileSize: 3.388 MiB