Package: DEP Version: 1.31.2 Command: rm -rf DEP.buildbin-libdir && mkdir DEP.buildbin-libdir && /Users/biocbuild/BBS/utils/build-universal.sh DEP_1.31.2.tar.gz /Library/Frameworks/R.framework/Resources/bin/R DEP.buildbin-libdir StartedAt: 2025-10-16 22:58:52 -0400 (Thu, 16 Oct 2025) EndedAt: 2025-10-16 22:59:11 -0400 (Thu, 16 Oct 2025) EllapsedTime: 19.3 seconds RetCode: 0 Status: OK PackageFile: DEP_1.31.2.tgz PackageFileSize: 4.273 MiB