Package: DELocal Version: 1.9.0 Command: /Library/Frameworks/R.framework/Resources/bin/R CMD check --install=check:DELocal.install-out.txt --library=/Library/Frameworks/R.framework/Resources/library --no-vignettes --timings DELocal_1.9.0.tar.gz StartedAt: 2025-09-10 20:01:03 -0400 (Wed, 10 Sep 2025) EndedAt: 2025-09-10 20:02:13 -0400 (Wed, 10 Sep 2025) EllapsedTime: 69.7 seconds RetCode: 0 Status: OK CheckDir: DELocal.Rcheck Warnings: 0