Package: DELocal Version: 1.9.0 Command: rm -rf DELocal.buildbin-libdir && mkdir DELocal.buildbin-libdir && /Users/biocbuild/BBS/utils/build-universal.sh DELocal_1.9.0.tar.gz /Library/Frameworks/R.framework/Resources/bin/R DELocal.buildbin-libdir StartedAt: 2025-09-10 23:35:06 -0400 (Wed, 10 Sep 2025) EndedAt: 2025-09-10 23:35:19 -0400 (Wed, 10 Sep 2025) EllapsedTime: 12.3 seconds RetCode: 0 Status: OK PackageFile: DELocal_1.9.0.tgz PackageFileSize: 2.375 MiB