Package: DEGseq Version: 1.63.0 Command: /home/biocbuild/R/R/bin/R CMD build --keep-empty-dirs --no-resave-data DEGseq StartedAt: 2025-10-17 00:33:53 -0000 (Fri, 17 Oct 2025) EndedAt: 2025-10-17 00:34:22 -0000 (Fri, 17 Oct 2025) EllapsedTime: 29.0 seconds RetCode: 0 Status: OK PackageFile: DEGseq_1.63.0.tar.gz PackageFileSize: 1.947 MiB