Package: DEGseq Version: 1.63.0 Command: /home/biocbuild/bbs-3.22-bioc/R/bin/R CMD INSTALL DEGseq StartedAt: 2025-10-19 15:10:53 -0400 (Sun, 19 Oct 2025) EndedAt: 2025-10-19 15:11:19 -0400 (Sun, 19 Oct 2025) EllapsedTime: 26.1 seconds RetCode: 0 Status: OK