Package: DEGseq Version: 1.63.0 Command: /home/biocbuild/bbs-3.22-bioc/R/bin/R CMD check --install=check:DEGseq.install-out.txt --library=/home/biocbuild/bbs-3.22-bioc/R/site-library --timings DEGseq_1.63.0.tar.gz StartedAt: 2025-10-19 23:02:21 -0400 (Sun, 19 Oct 2025) EndedAt: 2025-10-19 23:03:00 -0400 (Sun, 19 Oct 2025) EllapsedTime: 39.1 seconds RetCode: 0 Status: WARNINGS CheckDir: DEGseq.Rcheck Warnings: 1