Package: DEGseq Version: 1.63.0 Command: /home/biocbuild/bbs-3.22-bioc/R/bin/R CMD build --keep-empty-dirs --no-resave-data --md5 DEGseq StartedAt: 2025-10-19 17:15:55 -0400 (Sun, 19 Oct 2025) EndedAt: 2025-10-19 17:16:17 -0400 (Sun, 19 Oct 2025) EllapsedTime: 22.0 seconds RetCode: 0 Status: OK PackageFile: DEGseq_1.63.0.tar.gz PackageFileSize: 1.962 MiB