Package: DEGseq Version: 1.63.0 Command: /Library/Frameworks/R.framework/Resources/bin/R CMD check --install=check:DEGseq.install-out.txt --library=/Library/Frameworks/R.framework/Resources/library --no-vignettes --timings DEGseq_1.63.0.tar.gz StartedAt: 2025-10-19 19:19:39 -0400 (Sun, 19 Oct 2025) EndedAt: 2025-10-19 19:19:55 -0400 (Sun, 19 Oct 2025) EllapsedTime: 16.2 seconds RetCode: 0 Status: WARNINGS CheckDir: DEGseq.Rcheck Warnings: 1