Package: DEGseq Version: 1.63.0 Command: rm -rf DEGseq.buildbin-libdir && mkdir DEGseq.buildbin-libdir && /Users/biocbuild/BBS/utils/build-universal.sh DEGseq_1.63.0.tar.gz /Library/Frameworks/R.framework/Resources/bin/R DEGseq.buildbin-libdir StartedAt: 2025-10-19 22:56:55 -0400 (Sun, 19 Oct 2025) EndedAt: 2025-10-19 22:57:01 -0400 (Sun, 19 Oct 2025) EllapsedTime: 6.1 seconds RetCode: 0 Status: OK PackageFile: DEGseq_1.63.0.tgz PackageFileSize: 2.247 MiB