Package: DEGreport Version: 1.45.0 Command: chmod a+r DEGreport -R && F:\biocbuild\bbs-3.22-bioc\R\bin\R.exe CMD build --keep-empty-dirs --no-resave-data DEGreport StartedAt: 2025-08-14 19:35:52 -0400 (Thu, 14 Aug 2025) EndedAt: 2025-08-14 19:37:37 -0400 (Thu, 14 Aug 2025) EllapsedTime: 104.8 seconds RetCode: 0 Status: OK PackageFile: DEGreport_1.45.0.tar.gz PackageFileSize: 18.7 MiB