Package: DEGreport Version: 1.45.0 Command: rm -rf DEGreport.buildbin-libdir && mkdir DEGreport.buildbin-libdir && F:\biocbuild\bbs-3.22-bioc\R\bin\R.exe CMD INSTALL --build --library=DEGreport.buildbin-libdir DEGreport_1.45.0.tar.gz StartedAt: 2025-08-15 10:07:16 -0400 (Fri, 15 Aug 2025) EndedAt: 2025-08-15 10:08:18 -0400 (Fri, 15 Aug 2025) EllapsedTime: 62.4 seconds RetCode: 0 Status: OK PackageFile: DEGreport_1.45.0.zip PackageFileSize: 2.308 MiB