Package: DEGreport Version: 1.46.0 Command: /Library/Frameworks/R.framework/Resources/bin/R CMD INSTALL DEGreport StartedAt: 2025-11-03 15:37:17 -0500 (Mon, 03 Nov 2025) EndedAt: 2025-11-03 15:38:00 -0500 (Mon, 03 Nov 2025) EllapsedTime: 43.4 seconds RetCode: 0 Status: OK