Package: DEGreport Version: 1.46.0 Command: /Library/Frameworks/R.framework/Resources/bin/R CMD INSTALL DEGreport StartedAt: 2025-11-10 15:18:40 -0500 (Mon, 10 Nov 2025) EndedAt: 2025-11-10 15:18:53 -0500 (Mon, 10 Nov 2025) EllapsedTime: 12.5 seconds RetCode: 0 Status: OK