Package: DEGreport Version: 1.46.0 Command: /Library/Frameworks/R.framework/Resources/bin/R CMD build --keep-empty-dirs --no-resave-data DEGreport StartedAt: 2025-11-10 16:09:31 -0500 (Mon, 10 Nov 2025) EndedAt: 2025-11-10 16:10:01 -0500 (Mon, 10 Nov 2025) EllapsedTime: 29.3 seconds RetCode: 0 Status: OK PackageFile: DEGreport_1.46.0.tar.gz PackageFileSize: 19.74 MiB