Package: DEFormats Version: 1.37.0 Command: chmod a+r DEFormats -R && F:\biocbuild\bbs-3.22-bioc\R\bin\R.exe CMD build --keep-empty-dirs --no-resave-data DEFormats StartedAt: 2025-08-14 19:34:57 -0400 (Thu, 14 Aug 2025) EndedAt: 2025-08-14 19:35:44 -0400 (Thu, 14 Aug 2025) EllapsedTime: 47.1 seconds RetCode: 0 Status: OK PackageFile: DEFormats_1.37.0.tar.gz PackageFileSize: 226.5 KiB