Package: DEFormats Version: 1.37.0 Command: rm -rf DEFormats.buildbin-libdir && mkdir DEFormats.buildbin-libdir && F:\biocbuild\bbs-3.22-bioc\R\bin\R.exe CMD INSTALL --build --library=DEFormats.buildbin-libdir DEFormats_1.37.0.tar.gz StartedAt: 2025-08-15 10:07:00 -0400 (Fri, 15 Aug 2025) EndedAt: 2025-08-15 10:07:42 -0400 (Fri, 15 Aug 2025) EllapsedTime: 42.3 seconds RetCode: 0 Status: OK PackageFile: DEFormats_1.37.0.zip PackageFileSize: 490.9 KiB