Package: DECIPHER Version: 3.5.1 Command: /home/biocbuild/R/R/bin/R CMD check --install=check:DECIPHER.install-out.txt --library=/home/biocbuild/R/R/site-library --no-vignettes --timings DECIPHER_3.5.1.tar.gz StartedAt: 2025-10-17 07:57:19 -0000 (Fri, 17 Oct 2025) EndedAt: 2025-10-17 08:17:41 -0000 (Fri, 17 Oct 2025) EllapsedTime: 1221.7 seconds RetCode: 0 Status: OK CheckDir: DECIPHER.Rcheck Warnings: 0