Package: DAPAR Version: 1.41.0 Command: /home/biocbuild/R/R/bin/R CMD INSTALL DAPAR StartedAt: 2025-10-16 21:56:53 -0000 (Thu, 16 Oct 2025) EndedAt: 2025-10-16 21:57:50 -0000 (Thu, 16 Oct 2025) EllapsedTime: 57.5 seconds RetCode: 0 Status: OK