Package: DAPAR Version: 1.41.0 Command: /home/biocbuild/bbs-3.22-bioc/R/bin/R CMD INSTALL DAPAR StartedAt: 2025-10-19 15:38:06 -0400 (Sun, 19 Oct 2025) EndedAt: 2025-10-19 15:38:50 -0400 (Sun, 19 Oct 2025) EllapsedTime: 43.7 seconds RetCode: 0 Status: OK