Package: DAPAR Version: 1.41.0 Command: /home/biocbuild/bbs-3.22-bioc/R/bin/R CMD build --keep-empty-dirs --no-resave-data --md5 DAPAR StartedAt: 2025-10-20 17:07:39 -0400 (Mon, 20 Oct 2025) EndedAt: 2025-10-20 17:07:40 -0400 (Mon, 20 Oct 2025) EllapsedTime: 1.0 seconds RetCode: 0 Status: OK PackageFile: DAPAR_1.41.0.tar.gz PackageFileSize: 158.3 KiB