Package: DAPAR Version: 1.41.0 Command: /Library/Frameworks/R.framework/Resources/bin/R CMD INSTALL DAPAR StartedAt: 2025-10-19 15:38:45 -0400 (Sun, 19 Oct 2025) EndedAt: 2025-10-19 15:39:47 -0400 (Sun, 19 Oct 2025) EllapsedTime: 61.5 seconds RetCode: 0 Status: OK