Package: DAMEfinder Version: 1.21.2 Command: /home/biocbuild/R/R/bin/R CMD check --install=check:DAMEfinder.install-out.txt --library=/home/biocbuild/R/R/site-library --no-vignettes --timings DAMEfinder_1.21.2.tar.gz StartedAt: 2025-10-21 07:08:35 -0000 (Tue, 21 Oct 2025) EndedAt: 2025-10-21 07:15:32 -0000 (Tue, 21 Oct 2025) EllapsedTime: 417.3 seconds RetCode: 0 Status: OK CheckDir: DAMEfinder.Rcheck Warnings: 0