Package: DAMEfinder Version: 1.21.2 Command: /home/biocbuild/R/R/bin/R CMD build --keep-empty-dirs --no-resave-data DAMEfinder StartedAt: 2025-10-17 00:26:47 -0000 (Fri, 17 Oct 2025) EndedAt: 2025-10-17 00:29:51 -0000 (Fri, 17 Oct 2025) EllapsedTime: 184.1 seconds RetCode: 0 Status: OK PackageFile: DAMEfinder_1.21.2.tar.gz PackageFileSize: 3.581 MiB