Package: DAMEfinder Version: 1.21.2 Command: rm -rf DAMEfinder.buildbin-libdir && mkdir DAMEfinder.buildbin-libdir && F:\biocbuild\bbs-3.22-bioc\R\bin\R.exe CMD INSTALL --build --library=DAMEfinder.buildbin-libdir DAMEfinder_1.21.2.tar.gz StartedAt: 2025-08-15 10:05:17 -0400 (Fri, 15 Aug 2025) EndedAt: 2025-08-15 10:06:14 -0400 (Fri, 15 Aug 2025) EllapsedTime: 56.3 seconds RetCode: 0 Status: OK PackageFile: DAMEfinder_1.21.2.zip PackageFileSize: 3.152 MiB