Package: DAMEfinder Version: 1.21.2 Command: /home/biocbuild/bbs-3.22-bioc/R/bin/R CMD check --install=check:DAMEfinder.install-out.txt --library=/home/biocbuild/bbs-3.22-bioc/R/site-library --timings DAMEfinder_1.21.2.tar.gz StartedAt: 2025-10-22 22:53:55 -0400 (Wed, 22 Oct 2025) EndedAt: 2025-10-22 23:00:35 -0400 (Wed, 22 Oct 2025) EllapsedTime: 400.3 seconds RetCode: 0 Status: OK CheckDir: DAMEfinder.Rcheck Warnings: 0