Package: DAMEfinder Version: 1.21.2 Command: /Library/Frameworks/R.framework/Resources/bin/R CMD build --keep-empty-dirs --no-resave-data DAMEfinder StartedAt: 2025-10-23 16:38:15 -0400 (Thu, 23 Oct 2025) EndedAt: 2025-10-23 16:40:45 -0400 (Thu, 23 Oct 2025) EllapsedTime: 150.6 seconds RetCode: 0 Status: OK PackageFile: DAMEfinder_1.21.2.tar.gz PackageFileSize: 4.952 MiB