Package: DAMEfinder Version: 1.21.2 Command: /Library/Frameworks/R.framework/Resources/bin/R CMD check --install=check:DAMEfinder.install-out.txt --library=/Library/Frameworks/R.framework/Resources/library --no-vignettes --timings DAMEfinder_1.21.2.tar.gz StartedAt: 2025-10-21 19:19:25 -0400 (Tue, 21 Oct 2025) EndedAt: 2025-10-21 19:21:24 -0400 (Tue, 21 Oct 2025) EllapsedTime: 119.4 seconds RetCode: 0 Status: OK CheckDir: DAMEfinder.Rcheck Warnings: 0