Package: CytoMDS Version: 1.6.0 Command: /home/biocbuild/R/R/bin/R CMD INSTALL CytoMDS StartedAt: 2025-11-10 21:42:40 -0000 (Mon, 10 Nov 2025) EndedAt: 2025-11-10 21:43:02 -0000 (Mon, 10 Nov 2025) EllapsedTime: 22.1 seconds RetCode: 0 Status: OK